BEGIN:VCALENDAR
VERSION:2.0
PRODID:-//jEvents 2.0 for Joomla//EN
CALSCALE:GREGORIAN
METHOD:PUBLISH
BEGIN:VTIMEZONE
TZID:Europe/London
BEGIN:STANDARD
DTSTART:20311202T190000
RDATE:20320328T020000
TZOFFSETFROM:+0100
TZOFFSETTO:+0000
TZNAME:Europe/London GMT
END:STANDARD
END:VTIMEZONE
BEGIN:VEVENT
UID:9b47a0967178e1c7e3a0f27bb629490a
CATEGORIES:Cockermouth Mechanics Band
CREATED:20250110T123048
SUMMARY:Band Rehearsal in Cockermouth
LOCATION:Quaker Rooms\, Cockermouth\, Cumbria\, England\, GBR
DESCRIPTION:
DTSTAMP:20260419T211753
DTSTART;TZID=Europe/London:20321202T190000
SEQUENCE:0
TRANSP:OPAQUE
END:VEVENT
END:VCALENDAR